BEGIN:VCALENDAR
VERSION:2.0
PRODID:-//Brooklyn - ECPv6.15.20//NONSGML v1.0//EN
CALSCALE:GREGORIAN
METHOD:PUBLISH
X-WR-CALNAME:Brooklyn
X-ORIGINAL-URL:https://brooklyn-neighborhood.org
X-WR-CALDESC:Events for Brooklyn
REFRESH-INTERVAL;VALUE=DURATION:PT1H
X-Robots-Tag:noindex
X-PUBLISHED-TTL:PT1H
BEGIN:VTIMEZONE
TZID:America/Los_Angeles
BEGIN:DAYLIGHT
TZOFFSETFROM:-0800
TZOFFSETTO:-0700
TZNAME:PDT
DTSTART:20240310T100000
END:DAYLIGHT
BEGIN:STANDARD
TZOFFSETFROM:-0700
TZOFFSETTO:-0800
TZNAME:PST
DTSTART:20241103T090000
END:STANDARD
BEGIN:DAYLIGHT
TZOFFSETFROM:-0800
TZOFFSETTO:-0700
TZNAME:PDT
DTSTART:20250309T100000
END:DAYLIGHT
BEGIN:STANDARD
TZOFFSETFROM:-0700
TZOFFSETTO:-0800
TZNAME:PST
DTSTART:20251102T090000
END:STANDARD
BEGIN:DAYLIGHT
TZOFFSETFROM:-0800
TZOFFSETTO:-0700
TZNAME:PDT
DTSTART:20260308T100000
END:DAYLIGHT
BEGIN:STANDARD
TZOFFSETFROM:-0700
TZOFFSETTO:-0800
TZNAME:PST
DTSTART:20261101T090000
END:STANDARD
END:VTIMEZONE
BEGIN:VEVENT
DTSTART;TZID=America/Los_Angeles:20250604T190000
DTEND;TZID=America/Los_Angeles:20250604T203000
DTSTAMP:20260419T141054
CREATED:20241218T031746Z
LAST-MODIFIED:20250602T211512Z
UID:175577-1749063600-1749069000@brooklyn-neighborhood.org
SUMMARY:BLUTC: Brooklyn Land Use and Transportation Committee Meeting
DESCRIPTION:TriMet officials will make a presentation about the development of the TriMet property along the west side of 17th Avenue. 
URL:https://brooklyn-neighborhood.org/calendar/bluc-brooklyn-land-use-committee-meeting-6/
CATEGORIES:Land Use and Transportation Meetings,Meetings
END:VEVENT
BEGIN:VEVENT
DTSTART;TZID=America/Los_Angeles:20250606T173000
DTEND;TZID=America/Los_Angeles:20250606T183000
DTSTAMP:20260419T141054
CREATED:20250602T210838Z
LAST-MODIFIED:20250602T211230Z
UID:175848-1749231000-1749234600@brooklyn-neighborhood.org
SUMMARY:Brooklyn Historical Walking Tour
DESCRIPTION:Meet in front of Rose City Coffee\, 3370 SE Milwaukie Ave by 5:30pm… go earlier to grab a drink for the walk! Tour focuses on West of Milwaukie and includes a tour of Poulsen House\, so no dogs please. 
URL:https://brooklyn-neighborhood.org/calendar/175848/
LOCATION:Rose City Coffee\, 3370 SE Milkwaukie Ave\, Portland\, OR\, 97202\, United States
CATEGORIES:Meetings,Neighborhood Events
ATTACH;FMTTYPE=image/png:https://brooklyn-neighborhood.org/wp-content/uploads/2025/06/brooklyn-walkTour2025-06-06.png
END:VEVENT
BEGIN:VEVENT
DTSTART;TZID=America/Los_Angeles:20250611T190000
DTEND;TZID=America/Los_Angeles:20250611T203000
DTSTAMP:20260419T141054
CREATED:20250505T190716Z
LAST-MODIFIED:20250505T190732Z
UID:175790-1749668400-1749673800@brooklyn-neighborhood.org
SUMMARY:Brooklyn Action Corps Board Meeting
DESCRIPTION:Brooklyn Action Corps Board Meeting Wednesday\, June 11 @ 7-8:30pm at Sacred Heart Villa Activity Room\, 3925 SE Milwaukie Ave.The Brooklyn Action Corps has a board meeting on the second Wednesday of each month during the calendar year.The agenda is set by the board\, with a mix of regular and new business of neighborhood-wide concern. The board sets the topics with input from neighbors.The BAC Bylaws require a board election once a year\, usually in May. The new board takes office and elects its officers at the June board meeting.Join in person\, or via meeting link https://bit.ly/bacBoardMtg.
URL:https://brooklyn-neighborhood.org/calendar/brooklyn-action-corps-board-meeting-4/
LOCATION:Sacred Heart Villa Activity Room\, 3925 SE Milwaukie Ave\, Portland\, Oregon\, 97202\, United States
CATEGORIES:Board Meetings,Meetings
ATTACH;FMTTYPE=image/png:https://brooklyn-neighborhood.org/wp-content/uploads/2025/05/Board-Meeting-2025-06-11.png
END:VEVENT
END:VCALENDAR