BEGIN:VCALENDAR
VERSION:2.0
PRODID:-//Brooklyn - ECPv6.15.20//NONSGML v1.0//EN
CALSCALE:GREGORIAN
METHOD:PUBLISH
X-WR-CALNAME:Brooklyn
X-ORIGINAL-URL:https://brooklyn-neighborhood.org
X-WR-CALDESC:Events for Brooklyn
REFRESH-INTERVAL;VALUE=DURATION:PT1H
X-Robots-Tag:noindex
X-PUBLISHED-TTL:PT1H
BEGIN:VTIMEZONE
TZID:America/Los_Angeles
BEGIN:DAYLIGHT
TZOFFSETFROM:-0800
TZOFFSETTO:-0700
TZNAME:PDT
DTSTART:20240310T100000
END:DAYLIGHT
BEGIN:STANDARD
TZOFFSETFROM:-0700
TZOFFSETTO:-0800
TZNAME:PST
DTSTART:20241103T090000
END:STANDARD
BEGIN:DAYLIGHT
TZOFFSETFROM:-0800
TZOFFSETTO:-0700
TZNAME:PDT
DTSTART:20250309T100000
END:DAYLIGHT
BEGIN:STANDARD
TZOFFSETFROM:-0700
TZOFFSETTO:-0800
TZNAME:PST
DTSTART:20251102T090000
END:STANDARD
BEGIN:DAYLIGHT
TZOFFSETFROM:-0800
TZOFFSETTO:-0700
TZNAME:PDT
DTSTART:20260308T100000
END:DAYLIGHT
BEGIN:STANDARD
TZOFFSETFROM:-0700
TZOFFSETTO:-0800
TZNAME:PST
DTSTART:20261101T090000
END:STANDARD
END:VTIMEZONE
BEGIN:VEVENT
DTSTART;TZID=America/Los_Angeles:20250814T190000
DTEND;TZID=America/Los_Angeles:20250814T200000
DTSTAMP:20260419T105657
CREATED:20250425T221249Z
LAST-MODIFIED:20250811T182616Z
UID:175750-1755198000-1755201600@brooklyn-neighborhood.org
SUMMARY:BCAT event: Emergency Prep GoBag Part 2
DESCRIPTION:Brooklyn Neighborhood Climate Action Team Emergency Prep GoBag Part 2 at Brooklyn Park (SE Center & 15th\, same block as Winterhaven Elementary School).This is a FREE event!We recommend bringing a chair or blanket to this event.RSVP and save the event here.Everyone is welcome.  Email climate@bacpdx.org for details.
URL:https://brooklyn-neighborhood.org/calendar/bcat-meeting-13/
CATEGORIES:Climate Action Team Meetings,Meetings
ATTACH;FMTTYPE=image/png:https://brooklyn-neighborhood.org/wp-content/uploads/2025/04/BCAT-GoBag-Instagram-2025-08-14.png
END:VEVENT
END:VCALENDAR