BEGIN:VCALENDAR
VERSION:2.0
PRODID:-//Brooklyn - ECPv6.15.20//NONSGML v1.0//EN
CALSCALE:GREGORIAN
METHOD:PUBLISH
X-ORIGINAL-URL:https://brooklyn-neighborhood.org
X-WR-CALDESC:Events for Brooklyn
REFRESH-INTERVAL;VALUE=DURATION:PT1H
X-Robots-Tag:noindex
X-PUBLISHED-TTL:PT1H
BEGIN:VTIMEZONE
TZID:America/Los_Angeles
BEGIN:DAYLIGHT
TZOFFSETFROM:-0800
TZOFFSETTO:-0700
TZNAME:PDT
DTSTART:20240310T100000
END:DAYLIGHT
BEGIN:STANDARD
TZOFFSETFROM:-0700
TZOFFSETTO:-0800
TZNAME:PST
DTSTART:20241103T090000
END:STANDARD
BEGIN:DAYLIGHT
TZOFFSETFROM:-0800
TZOFFSETTO:-0700
TZNAME:PDT
DTSTART:20250309T100000
END:DAYLIGHT
BEGIN:STANDARD
TZOFFSETFROM:-0700
TZOFFSETTO:-0800
TZNAME:PST
DTSTART:20251102T090000
END:STANDARD
BEGIN:DAYLIGHT
TZOFFSETFROM:-0800
TZOFFSETTO:-0700
TZNAME:PDT
DTSTART:20260308T100000
END:DAYLIGHT
BEGIN:STANDARD
TZOFFSETFROM:-0700
TZOFFSETTO:-0800
TZNAME:PST
DTSTART:20261101T090000
END:STANDARD
END:VTIMEZONE
BEGIN:VEVENT
DTSTART;TZID=America/Los_Angeles:20250522T180000
DTEND;TZID=America/Los_Angeles:20250522T190000
DTSTAMP:20260424T035915
CREATED:20250425T220508Z
LAST-MODIFIED:20250508T063533Z
UID:175740-1747936800-1747940400@brooklyn-neighborhood.org
SUMMARY:BCAT Meeting
DESCRIPTION:Brooklyn Neighborhood Climate Action Team meeting.\n\n\n\nEveryone is welcome. \n\n\n\nHeld outside at Brooklyn School Park in good weather; for alternate location in case of inclement weather\, email climate@brooklyn-neighborhood.org for details.
URL:https://brooklyn-neighborhood.org/calendar/bcat-meeting-8/
CATEGORIES:Climate Action Team Meetings,Meetings
ATTACH;FMTTYPE=image/png:https://brooklyn-neighborhood.org/wp-content/uploads/2025/04/BCAT-template.png
END:VEVENT
END:VCALENDAR