BEGIN:VCALENDAR
VERSION:2.0
PRODID:-//Brooklyn - ECPv6.15.20//NONSGML v1.0//EN
CALSCALE:GREGORIAN
METHOD:PUBLISH
X-ORIGINAL-URL:https://brooklyn-neighborhood.org
X-WR-CALDESC:Events for Brooklyn
REFRESH-INTERVAL;VALUE=DURATION:PT1H
X-Robots-Tag:noindex
X-PUBLISHED-TTL:PT1H
BEGIN:VTIMEZONE
TZID:America/Los_Angeles
BEGIN:DAYLIGHT
TZOFFSETFROM:-0800
TZOFFSETTO:-0700
TZNAME:PDT
DTSTART:20240310T100000
END:DAYLIGHT
BEGIN:STANDARD
TZOFFSETFROM:-0700
TZOFFSETTO:-0800
TZNAME:PST
DTSTART:20241103T090000
END:STANDARD
BEGIN:DAYLIGHT
TZOFFSETFROM:-0800
TZOFFSETTO:-0700
TZNAME:PDT
DTSTART:20250309T100000
END:DAYLIGHT
BEGIN:STANDARD
TZOFFSETFROM:-0700
TZOFFSETTO:-0800
TZNAME:PST
DTSTART:20251102T090000
END:STANDARD
BEGIN:DAYLIGHT
TZOFFSETFROM:-0800
TZOFFSETTO:-0700
TZNAME:PDT
DTSTART:20260308T100000
END:DAYLIGHT
BEGIN:STANDARD
TZOFFSETFROM:-0700
TZOFFSETTO:-0800
TZNAME:PST
DTSTART:20261101T090000
END:STANDARD
END:VTIMEZONE
BEGIN:VEVENT
DTSTART;TZID=America/Los_Angeles:20250903T190000
DTEND;TZID=America/Los_Angeles:20250903T200000
DTSTAMP:20260419T094723
CREATED:20250830T190909Z
LAST-MODIFIED:20250830T191533Z
UID:175967-1756926000-1756929600@brooklyn-neighborhood.org
SUMMARY:Brooklyn Land Use and Transportation Committee (BLUTC) Meeting
DESCRIPTION:Brooklyn Land Use and Transportation Committee Meeting.   \n\n\n\nKevin from Human Access Project will talk about their plans for hiking trails along the Willamette waterfront through Brooklyn.
URL:https://brooklyn-neighborhood.org/calendar/blutc-brooklyn-land-use-and-transportation-committee-meeting/
LOCATION:Sacred Heart Villa Activity Room\, 3925 SE Milwaukie Ave\, Portland\, Oregon\, 97202\, United States
CATEGORIES:Land Use and Transportation Meetings,Meetings
ATTACH;FMTTYPE=image/png:https://brooklyn-neighborhood.org/wp-content/uploads/2025/08/LUTC-2025-7pm-bacpdx-Sacred-Heart.png
END:VEVENT
END:VCALENDAR